BEGIN:VCALENDAR
VERSION:2.0
PRODID:-//ExpressionEngine Easy iCalendar plugin//NONSGML v2.0.1//EN
X-WR-TIMEZONE:America/Los_Angeles
X-WR-CALNAME:Upcoming Auctions
BEGIN:VEVENT
UID:160942
DTSTAMP:20260513T100000
DTSTART:20260513T100000
DTEND:20260520T100000
SUMMARY:May Multi Estate Auction
LOCATION:{location}
DESCRIPTION:Preview Schedule: â€¢ Tuesday\, May 19th 9:00 AM - 4:00 PM â€
 ¢ Wednesday\, May 20th 8:00Â AM - 11:00 AM Preview is availab
 le to the general public. All inventory is located at our wa
 rehouse\; 17272 Darwin Avenue\, Hesperia\, CA 92345. Â  Pick-Up
  Schedule: â€¢ Wednesday\, May 20th 12:00 PM - 4:00 PM â€¢ Th
 ursday\, May 21th 9:00 AM - 4:00 PM â€¢ Friday\, May 22th 9:00
  AM - 4:00 PM â€¢ Saturday\, MayÂ 23thÂ BY APPOINTMENT ONLY: 
 9:00 am until 12:00 pm Preview is available to the general p
 ublic. All inventory is located at our warehouse\; 17272 Darw
 in Avenue\, Hesperia\, CA 92345.
URL:https://www.bidfastandlast.com/auctions/detail/bw160942
SEQUENCE:1
END:VEVENT
END:VCALENDAR