BEGIN:VCALENDAR
VERSION:2.0
PRODID:-//ExpressionEngine Easy iCalendar plugin//NONSGML v2.0.0//EN
X-WR-TIMEZONE:America/Los_Angeles
X-WR-CALNAME:Upcoming Auctions
BEGIN:VEVENT
UID:154383
DTSTAMP:20260128T090000
DTSTART:20260128T090000
DTEND:20260128T100000
SUMMARY:January Auction #2
LOCATION:{location}
DESCRIPTION:Preview Schedule: â€¢ Tuesday\, January 27thÂ 9:00 AM - 4:00 
 PM â€¢ Wednesday\, January 28th 8:00Â AM - 11:00 AM Â  Pick-U
 p Schedule: â€¢ Wednesday\, January 28th 12:00 PM - 4:00 PM â
 €¢ Thursday\, January 29th 9:00 AM - 4:00 PM â€¢ Friday\, Janu
 ary 30th 9:00 AM - 4:00 PM â€¢ Saturday\, January 31thÂ BY AP
 POINTMENT ONLY: 9:00 am until 12:00 pm Preview is available 
 to the general public. All inventory is located at our wareh
 ouse\; 17272 Darwin Avenue\, Hesperia\, CA 92345.
URL:https://www.bidfastandlast.com/auctions/detail/bw154383
SEQUENCE:1
END:VEVENT
END:VCALENDAR