BEGIN:VCALENDAR
VERSION:2.0
PRODID:-//ExpressionEngine Easy iCalendar plugin//NONSGML v2.0.0//EN
X-WR-TIMEZONE:America/Los_Angeles
X-WR-CALNAME:Upcoming Auctions
BEGIN:VEVENT
UID:151658
DTSTAMP:20251027T090000
DTSTART:20251027T090000
DTEND:20260214T170000
SUMMARY:Bougie Cattle Co February Mini Cow Auction
LOCATION:{location}
DESCRIPTION:Bougie Babies Coming Soon!!! Join us for our Sweetheart Ope
 n House on Saturday\, February 14th 1:30 - 4 PM Come tour t
 he ranch\, meet the minis in person\, and enjoy shopping with 
 us in our Bougie Boutique. Extended bidding kicks off Same 
 Day at 5pm — so be ready! If you would like to book a pri
 vate tour to meet the babies please use the link below. If y
 ou would purchase a Bougie baby\, your donation will be refun
 ded. https://bougiecattlecompany.com/ Want early updates\, sn
 eak peeks\, and reminders? Follow the link below to sign up f
 or email and text message alerts. Sign up for emails here
URL:https://www.bidfastandlast.com/auctions/detail/bw151658
SEQUENCE:1
END:VEVENT
END:VCALENDAR